BEGIN:VCALENDAR
VERSION:2.0
PRODID:-//SOGIBA - ECPv6.15.20//NONSGML v1.0//EN
CALSCALE:GREGORIAN
METHOD:PUBLISH
X-WR-CALNAME:SOGIBA
X-ORIGINAL-URL:https://sogiba.com.br
X-WR-CALDESC:Eventos para SOGIBA
REFRESH-INTERVAL;VALUE=DURATION:PT1H
X-Robots-Tag:noindex
X-PUBLISHED-TTL:PT1H
BEGIN:VTIMEZONE
TZID:America/Sao_Paulo
BEGIN:STANDARD
TZOFFSETFROM:-0300
TZOFFSETTO:-0300
TZNAME:-03
DTSTART:20200101T000000
END:STANDARD
END:VTIMEZONE
BEGIN:VEVENT
DTSTART;TZID=America/Sao_Paulo:20250806T080000
DTEND;TZID=America/Sao_Paulo:20250806T080000
DTSTAMP:20260423T141331
CREATED:20250904T150226Z
LAST-MODIFIED:20250904T150226Z
UID:4606-1754467200-1754467200@sogiba.com.br
SUMMARY:Café Científico com GOsto da Bahia- Novas Diretrizes Brasileiras de Rastreamento do Câncer Do Colo Uterino
DESCRIPTION:A SOGIBA vai realizar o Café Científico com GOsto da Bahia\, com o tema “Novas Diretrizes Brasileiras de Rastreamento do Câncer Do Colo Uterino”. \nSerá no dia 6 de setembro (um sábado)\, das 8h30 às 11h\, no Hotel Fiesta Itaigara. \nHaverá duas palestras de alto nível científico: 🔝 \n– Importância do Rastreamento na Prevenção do Câncer do Colo Uterino no Brasil. – Profa. Ana Gabriela Travassos \n-Incorporação dos Testes Moleculares para Detecção de DNA – HPV oncogênico.- Dra. Karen Abbehusen \nO evento terá coordenação do Dr. Fábio Agnelo.
URL:https://sogiba.com.br/agenda/cafe-cientifico-com-gosto-da-bahia-novas-diretrizes-brasileiras-de-rastreamento-do-cancer-do-colo-uterino/
ATTACH;FMTTYPE=image/jpeg:https://sogiba.com.br/wp-content/uploads/2025/09/WhatsApp-Image-2025-09-04-at-12.00.32.jpeg
END:VEVENT
BEGIN:VEVENT
DTSTART;VALUE=DATE:20250609
DTEND;VALUE=DATE:20250610
DTSTAMP:20260423T141331
CREATED:20250110T061939Z
LAST-MODIFIED:20250613T130745Z
UID:4212-1749427200-1749513599@sogiba.com.br
SUMMARY:Sessão Científica: Estroboloma no Contexto das Doenças Estrógeno-dependentes
DESCRIPTION:Na segunda-feira\, (09/06)\, às 19h30\, a SESSÃO SOGIBA ON LINE será imperdível! \nTraremos o Dr. Marcelo Aquino para falar sobre Restrição de Crescimento Fetal: Rastreio\, Vigilância e Conduta. \nEle é mestre e Doutor em Obstetrícia pela USP\, Fellow em Medicina Fetal no Kings College-Londres e Professor Associado IV de Obstetrícia da UFBA. \nA coordenação será feita pelo Dr. Kléber Pimentel.
URL:https://sogiba.com.br/agenda/restricao-de-crescimento-fetal-rastreio-vigilancia-e-conduta/
CATEGORIES:Sessões Científicas Sogiba Online
ATTACH;FMTTYPE=image/jpeg:https://sogiba.com.br/wp-content/uploads/2025/04/48fea82e-b633-4a02-94f4-06d4bc9bd2d4.jpeg
END:VEVENT
BEGIN:VEVENT
DTSTART;TZID=America/Sao_Paulo:20250531T080000
DTEND;TZID=America/Sao_Paulo:20250531T170000
DTSTAMP:20260423T141331
CREATED:20250428T100134Z
LAST-MODIFIED:20250428T100226Z
UID:4521-1748678400-1748710800@sogiba.com.br
SUMMARY:Simpósio Baiano de Síndromes Hipertensivas na Gestação
DESCRIPTION:No dia 31 de maio\, teremos o\nSimpósio Baiano de Síndromes Hipertensivas na Gestação\, no Hotel Fiesta Itaigara. \nFique atento! \nDATA: 31.05.2025\nINSCRIÇÃO PARA SÓCIO QUITE R$ 100\,00\nINSCRIÇÃO PARA NÃO SÓCIO R$ 300\,00 \nCHAVE DO PIX CNPJ 14556344/000196\n*COMPROVANTE DO PIX DEVE SER ENVIADO PARA O WHATSAPP 71 986223664 \nLINK PARA INSCRIÇÃO: \nhttps://forms.gle/6j7wR9Cme7hf2FS58
URL:https://sogiba.com.br/agenda/simposio-baiano-de-sindromes-hipertensivas-na-gestacao/
CATEGORIES:Congressos, Simpósios e Fóruns
ATTACH;FMTTYPE=image/jpeg:https://sogiba.com.br/wp-content/uploads/2025/04/WhatsApp-Image-2025-04-28-at-06.55.57.jpeg
END:VEVENT
BEGIN:VEVENT
DTSTART;VALUE=DATE:20250531
DTEND;VALUE=DATE:20250601
DTSTAMP:20260423T141331
CREATED:20250110T062840Z
LAST-MODIFIED:20250508T115304Z
UID:4233-1748649600-1748735999@sogiba.com.br
SUMMARY:Rede Brasileira de Estudos Síndromes Hipertensivas na Gestação   – ABM – 80 participantes
DESCRIPTION:Inscrições através do link: https://forms.gle/cSBZE3v2dhCduQfv5
URL:https://sogiba.com.br/agenda/rede-brasileira-de-estudos-sindromes-hipertensivas-na-gestacao-abm-80-participantes/
LOCATION:Hotel Fiesta
CATEGORIES:Congressos, Simpósios e Fóruns,Eventos
END:VEVENT
BEGIN:VEVENT
DTSTART;TZID=America/Sao_Paulo:20250510T080000
DTEND;TZID=America/Sao_Paulo:20250510T170000
DTSTAMP:20260423T141331
CREATED:20250429T112347Z
LAST-MODIFIED:20250429T113033Z
UID:4529-1746864000-1746896400@sogiba.com.br
SUMMARY:Café Científico com GOsto da Bahia- Sangramento Uterino Anormal na Perimenopausa: Como tratar?
DESCRIPTION:A SOGIBA vai realizar o primeiro Café Científico com GOsto da Bahia de 2025\, com o tema “Sangramento Uterino Anormal na Perimenopausa: Como tratar?” \n📍Será no dia 10 de maio (sábado)\, das 8h30 às 11h30\, no Hotel Fiesta Itaigara. \nSerão três palestras de alto nível científico: 🔝 \n– Tratamento Hormonal – Dra. Sandra Schindler \n– Abordagem cirúrgica minimamente invasiva – Dra. Mariana Calazans \n– Embolização de artérias uterinas – Dr.  Fabrício Mascarenhas \n  \nO evento contará com coordenação da Dra. Cinara Costa.\n🔗Inscrições abertas estão no link da Bio: \nhttps://forms.gle/JW6iC9sjHgR2QqTZ6 \nContamos com a sua participação! \n 
URL:https://sogiba.com.br/agenda/cafe-cientifico-com-gosto-da-bahia-sangramento-uterino-anormal-na-perimenopausa-como-tratar/
CATEGORIES:Cafés com GOsto da Bahia
ATTACH;FMTTYPE=image/jpeg:https://sogiba.com.br/wp-content/uploads/2025/04/WhatsApp-Image-2025-04-29-at-08.15.27.jpeg
END:VEVENT
BEGIN:VEVENT
DTSTART;TZID=America/Sao_Paulo:20250428T080000
DTEND;TZID=America/Sao_Paulo:20250428T170000
DTSTAMP:20260423T141331
CREATED:20250428T143008Z
LAST-MODIFIED:20250428T143208Z
UID:4524-1745827200-1745859600@sogiba.com.br
SUMMARY:SESSÃO SOGIBA ON LINE- Doenças Estrogêno-Dependentes
DESCRIPTION:Na próxima segunda-feira\, (05/05)\, a SESSÃO SOGIBA ON LINE será imperdível! \nTraremos o Prof. Murilo Pereira para abordar as Doenças Estrogêno-Dependentes do ponto de vista das microbiota intestinal. \nProf. Murilo Pereira é pesquisador\, coordenador da pós- graduação e autor do livro com o mesmo título: Modulação Intestinal: Fundamentos e Estratégias Práticas. \nLink de acesso: \nhttps://www.youtube.com/watch?v=a4ViaWq-3iM \n 
URL:https://sogiba.com.br/agenda/sessao-sogiba-on-line-doencas-estrogeno-dependentes/
CATEGORIES:Sessões Científicas Sogiba Online
ATTACH;FMTTYPE=image/jpeg:https://sogiba.com.br/wp-content/uploads/2025/04/48fea82e-b633-4a02-94f4-06d4bc9bd2d4.jpeg
END:VEVENT
BEGIN:VEVENT
DTSTART;VALUE=DATE:20250422
DTEND;VALUE=DATE:20250423
DTSTAMP:20260423T141331
CREATED:20250110T061837Z
LAST-MODIFIED:20250422T114208Z
UID:4210-1745280000-1745366399@sogiba.com.br
SUMMARY:Sessão Sogiba On Line - Abuso do uso do TH
DESCRIPTION:A sessão científica SOGIBA ON LINE de abril será excepcionalmente numa terça feira- 15/04/25 \nA SOGIBA trará prof. Benedito Almeida da Faculdade de Medicina UNESP de Botucatu\, para trazer as evidências científicas no que diz respeito aos esquemas de terapia hormonal no climatério.\nProf. Benedito é o idealizador e o CEO da plataforma Gynecoacademy! \nHormônios como DHEA\, Gestrinona\, Pregnenolona e outros tem sustentação nas evidências científicas na reposição hormonal❓ \nVenha tirar suas dúvidas\, enriquecer seu conhecimento e a segurança na sua assistência às mulheres no climatério !😉 \nLink para aula- https://www.youtube.com/live/0iOVMJ62id8?si=5L2GEy5YqR9ltEJq \n \n 
URL:https://sogiba.com.br/agenda/abuso-do-uso-de-th-quando-preocupar/
CATEGORIES:Sessões Científicas Sogiba Online
ATTACH;FMTTYPE=image/jpeg:https://sogiba.com.br/wp-content/uploads/2025/01/WhatsApp-Image-2025-04-22-at-08.25.08.jpeg
END:VEVENT
BEGIN:VEVENT
DTSTART;VALUE=DATE:20250405
DTEND;VALUE=DATE:20250406
DTSTAMP:20260423T141331
CREATED:20250110T062348Z
LAST-MODIFIED:20250217T193808Z
UID:4223-1743811200-1743897599@sogiba.com.br
SUMMARY:Microbiota vaginal - Como abordar a disbiose?
DESCRIPTION:
URL:https://sogiba.com.br/agenda/microbiota-vaginal-como-abordar-a-disbiose/
CATEGORIES:Cafés com GOsto da Bahia
END:VEVENT
BEGIN:VEVENT
DTSTART;VALUE=DATE:20250330
DTEND;VALUE=DATE:20250331
DTSTAMP:20260423T141331
CREATED:20250110T063042Z
LAST-MODIFIED:20250211T140634Z
UID:4237-1743292800-1743379199@sogiba.com.br
SUMMARY:Confraternização - Dia da Mulher
DESCRIPTION:Caminhada/Aula FIT/ Canoagem – Barra
URL:https://sogiba.com.br/agenda/confraternizacao-dia-da-mulher/
CATEGORIES:Eventos
END:VEVENT
BEGIN:VEVENT
DTSTART;VALUE=DATE:20250328
DTEND;VALUE=DATE:20250329
DTSTAMP:20260423T141331
CREATED:20250110T062737Z
LAST-MODIFIED:20250211T140255Z
UID:4231-1743120000-1743206399@sogiba.com.br
SUMMARY:Fórum de Assistência à Mulher Vítima de Violência Sexual na Bahia
DESCRIPTION:
URL:https://sogiba.com.br/agenda/forum-de-assistencia-a-mulher-vitima-de-violencia-sexual-na-bahia/
CATEGORIES:Congressos, Simpósios e Fóruns
END:VEVENT
BEGIN:VEVENT
DTSTART;TZID=America/Sao_Paulo:20250317T080000
DTEND;TZID=America/Sao_Paulo:20250317T170000
DTSTAMP:20260423T141331
CREATED:20250312T135004Z
LAST-MODIFIED:20250312T135004Z
UID:4445-1742198400-1742230800@sogiba.com.br
SUMMARY:Sessão Sogiba On Line- Março Amarelo: Endometriose Profunda - Rastreio e Diagnóstico
DESCRIPTION:A próxima SESSÃO SOGIBA ON LINE será realizada no dia 17 de março (uma segunda-feira)\, com o tema Março Amarelo: Endometriose Profunda – Rastreio e Diagnóstico. \nPara falar sobre o assunto\, traremos: \nDra. Emilly Serapião: Especialista em Ginecologia e Obstetrícia \, Histeroscopia e Videolaparoscopia pela Febrasgo\, Membro da AAGL (American Association of Gynecologic Laparoscopists) e Médica Coordenadora da Academia Multidisciplinar de Endometriose do Itaigara Memorial \nDr. João Rafael Carneiro: Membro Titular do Colégio Brasileiro de Radiologia\, Diretor médico da Clínica de Saúde e Imagem -CSI e coordenador da Bioimagem do Hospital Português e Membro da Diretoria da Sociedade Baiana de Ultrassonografia – SBUS \nHorário: 19:30 \nParticipe pelo link: https://www.youtube.com/watch?v=1Jp4V-BzPAc
URL:https://sogiba.com.br/agenda/sessao-sogiba-on-line-marco-amarelo-endometriose-profunda-rastreio-e-diagnostico/
CATEGORIES:Sessões Científicas Sogiba Online
ATTACH;FMTTYPE=image/jpeg:https://sogiba.com.br/wp-content/uploads/2025/03/WhatsApp-Image-2025-03-06-at-08.29.00-1.jpeg
END:VEVENT
BEGIN:VEVENT
DTSTART;TZID=America/Sao_Paulo:20250312T080000
DTEND;TZID=America/Sao_Paulo:20250531T170000
DTSTAMP:20260423T141331
CREATED:20250312T130458Z
LAST-MODIFIED:20250313T142412Z
UID:4431-1741766400-1748710800@sogiba.com.br
SUMMARY:I Fórum Sobre Assistência Integral às Mulheres Vítimas de Violência Sexual na Bahia
DESCRIPTION:A SOGIBA vai realizar no dia 28 de março\, o I Fórum Sobre Assistência Integral às Mulheres Vítimas de Violência Sexual na Bahia. \nConfira a programaçãonos cards! \nO evento é aberto a médicos\, psicólogos\, advogados\, assistentes sociais\, enfermeiros e estudantes. \nA casa da Mulher Brasileira fica próxima ao Hospital Sara. \nInscreva-de aqui: https://docs.google.com/forms/d/e/1FAIpQLSffG6L0UKt5Fhc5aSJe3IkAWRfiq2xGZ6x86idZUpo2HjRokg/viewform?usp=send_form  \n  \n  
URL:https://sogiba.com.br/agenda/i-forum-sobre-assistencia-integral-as-mulheres-vitimas-de-violencia-sexual-na-bahia/
CATEGORIES:Congressos, Simpósios e Fóruns
ATTACH;FMTTYPE=image/jpeg:https://sogiba.com.br/wp-content/uploads/2025/03/WhatsApp-Image-2025-03-11-at-11.03.54.jpeg
END:VEVENT
BEGIN:VEVENT
DTSTART;TZID=America/Sao_Paulo:20250306T080000
DTEND;TZID=America/Sao_Paulo:20250306T170000
DTSTAMP:20260423T141331
CREATED:20250306T124133Z
LAST-MODIFIED:20250306T124238Z
UID:4428-1741248000-1741280400@sogiba.com.br
SUMMARY:Sessão Sogiba Online- Março Amarelo: Endometriose Profunda - Rastreio e Diagnóstico
DESCRIPTION:. \nAtenção! \nA próxima SESSÃO SOGIBA ON LINE será realizada no dia 17 de março (uma segunda-feira)\, com o tema \nPara falar sobre o assunto\, traremos: \n\nDra. Emilly Serapião: Especialista em Ginecologia e Obstetrícia \, Histeroscopia e Videolaparoscopia pela Febrasgo\, Membro da AAGL (American Association of Gynecologic Laparoscopists) e Médica Coordenadora da Academia Multidisciplinar de Endometriose do Itaigara Memorial\nDr. João Rafael Carneiro: Membro Titular do Colégio Brasileiro de Radiologia\, Diretor médico da Clínica de Saúde e Imagem -CSI e coordenador da Bioimagem do Hospital Português e Membro da Diretoria da Sociedade Baiana de Ultrassonografia – SBUS\n\nHorário: 19:30 \nParticipe pelo link: https://www.youtube.com/watch?v=1Jp4V-BzPAc
URL:https://sogiba.com.br/agenda/sessao-sogiba-online-marco-amarelo-endometriose-profunda-rastreio-e-diagnostico/
CATEGORIES:Sessões Científicas Sogiba Online
ATTACH;FMTTYPE=image/jpeg:https://sogiba.com.br/wp-content/uploads/2025/03/WhatsApp-Image-2025-03-06-at-09.14.13.jpeg
END:VEVENT
BEGIN:VEVENT
DTSTART;TZID=America/Sao_Paulo:20241125T193000
DTEND;TZID=America/Sao_Paulo:20241125T213000
DTSTAMP:20260423T141331
CREATED:20241020T034005Z
LAST-MODIFIED:20250110T061206Z
UID:3942-1732563000-1732570200@sogiba.com.br
SUMMARY:Sessão Sogiba online -  Ginecologia Desportiva
DESCRIPTION:A próxima SESSÃO SOGIBA ON LINE será realizada na segunda-feira\, dia 25 de novembro\, com o tema GINECOLOGIA DESPORTIVA. \nPara falar sobre o assunto\, traremos: \nDra. Natalia Gomes\n– Mestra em Ginecologia pela UNIFESP\n– Especialista em Uroginecologia e Medicina Esportiva\n– Preceptora do Setor de Ginecologia do Esporte da UNIFESP \nDr. Pedro Porto\n– Preceptoria Ginecologia do Esporte\n– Preceptoria Obstetrícia Alto Risco\n– ⁠Cirugia Ginecológica \nHorário: 19:30 \nParticipe pelo link (NA BIO)!\nhttps://www.youtube.com/watch?v=Li1zQ4VNAAg \nEstamos trabalhando para VOCÊ!
URL:https://sogiba.com.br/agenda/sessao-sogiba-online-ginecologia-desportiva/
CATEGORIES:Sessões Científicas Sogiba Online
ATTACH;FMTTYPE=image/webp:https://sogiba.com.br/wp-content/uploads/2024/12/noticia_sessao-sogiba-on-line-ginecologia-desportiva_66972097.webp
END:VEVENT
BEGIN:VEVENT
DTSTART;VALUE=DATE:20241005
DTEND;VALUE=DATE:20241006
DTSTAMP:20260423T141331
CREATED:20240905T030251Z
LAST-MODIFIED:20250110T061210Z
UID:3918-1728086400-1728172799@sogiba.com.br
SUMMARY:Edição 20 - Café com Gosto da Bahia
DESCRIPTION:Vacinação nas Diversas Fases da Mulher \n\nA SOGIBA vai realizar o Café Científico com GOsto da Bahia\, com o tema “Vacinação da Mulher nas Diversas Fases da Vida” \nSerá no dia 05 de outubro\, das 8h às 11h\, no Latitude 13 Café (Barra). \nSerão três palestras de alto nível científico: \n1 – Gestantes \n2 – Mulher Adulta \n3 – Idosas \nInscrições abertas estão no link da Bio \nContamos com a sua participação!
URL:https://sogiba.com.br/agenda/edicao-20-cafe-com-gosto-da-bahia/
CATEGORIES:Cafés com GOsto da Bahia
ATTACH;FMTTYPE=image/webp:https://sogiba.com.br/wp-content/uploads/2024/12/noticia_cafe-com-gosto-da-bahia_4234a64b-v2.webp
END:VEVENT
BEGIN:VEVENT
DTSTART;VALUE=DATE:20240531
DTEND;VALUE=DATE:20240601
DTSTAMP:20260423T141331
CREATED:20210531T034746Z
LAST-MODIFIED:20250110T061213Z
UID:3949-1717113600-1717199999@sogiba.com.br
SUMMARY:Sessão Científica Professor Luiz Eduardo Machado
DESCRIPTION:Acesse: https://www.youtube.com/watch?v=ZBGSPQNL28I
URL:https://sogiba.com.br/agenda/sessao-cientifica-professor-luiz-eduardo-machado/
CATEGORIES:Sessões Científicas Sogiba Online
END:VEVENT
BEGIN:VEVENT
DTSTART;VALUE=DATE:20240421
DTEND;VALUE=DATE:20240425
DTSTAMP:20260423T141331
CREATED:20240410T034552Z
LAST-MODIFIED:20250110T061217Z
UID:3947-1713657600-1714003199@sogiba.com.br
SUMMARY:VII Congresso Brasileiro e Endometriose e Cirurgia Minimamente Invasiva
DESCRIPTION:Evento online – 21 a 24 de abril \nAcesse o site: www.congressosbe.com.br
URL:https://sogiba.com.br/agenda/vii-congresso-brasileiro-e-endometriose-e-cirurgia-minimamente-invasiva/
CATEGORIES:Eventos
END:VEVENT
BEGIN:VEVENT
DTSTART;VALUE=DATE:20230921
DTEND;VALUE=DATE:20230924
DTSTAMP:20260423T141331
CREATED:20230910T040122Z
LAST-MODIFIED:20250110T061225Z
UID:3962-1695254400-1695513599@sogiba.com.br
SUMMARY:XXV Congresso Brasileiro de Patologia do Trato Genital Inferior e Colposcopia
DESCRIPTION:Hotel DEVILLE de 21 a 23 de setembro 2023. \nA Associação Baiana de Patologia Cervical uterina e Colposcopia em comemoração aos seus 50 anos de vida trouxe para Salvador o XXV CONGRESSO BRASILEIRO DE PATOLOGIA DO TRATO GENITAL INFERIOR E COLPOSCOPIA\, que será realizado no Hotel DEVILLE de 21 a 23 de setembro 2023.
URL:https://sogiba.com.br/agenda/xxv-congresso-brasileiro-de-patologia-do-trato-genital-inferior-e-colposcopia/
CATEGORIES:Congressos, Simpósios e Fóruns
ATTACH;FMTTYPE=image/webp:https://sogiba.com.br/wp-content/uploads/2024/12/noticia_xxv-congresso-brasileiro-de-patologia-do-trato-genital-inferior-e-colposcopia_065233c4.webp
END:VEVENT
BEGIN:VEVENT
DTSTART;TZID=America/Sao_Paulo:20230916T080000
DTEND;TZID=America/Sao_Paulo:20230916T110000
DTSTAMP:20260423T141331
CREATED:20230901T042750Z
LAST-MODIFIED:20250110T061228Z
UID:3979-1694851200-1694862000@sogiba.com.br
SUMMARY:Café Científico - Gardasil 9 Porque vacinar a mulher adulta?
DESCRIPTION:Horário de 08h às 11h \nVamos ter café no dia 16.09\, fique atendo e preencha logo sua ficha de inscrição. \nEvento apenas para médicos. \n➡️Mais informações entrar em contato com a secretaria.\nTel: (71) 98622-3664
URL:https://sogiba.com.br/agenda/cafe-cientifico-gardasil-9-porque-vacinar-a-mulher-adulta/
CATEGORIES:Sessões Científicas Sogiba Online
ATTACH;FMTTYPE=image/webp:https://sogiba.com.br/wp-content/uploads/2024/12/noticia_cafe-cientifico-gardasil-9-porque-vacinar-a-mulher-adulta-_8318293f.webp
END:VEVENT
BEGIN:VEVENT
DTSTART;VALUE=DATE:20230818
DTEND;VALUE=DATE:20230820
DTSTAMP:20260423T141331
CREATED:20230720T035835Z
LAST-MODIFIED:20250110T061232Z
UID:3959-1692316800-1692489599@sogiba.com.br
SUMMARY:XXI Simpósio Nacional de Reprodução Humana
DESCRIPTION:Evento do dia 18 e 19 de agosto \n 
URL:https://sogiba.com.br/agenda/xxi-simposio-nacional-de-reproducao-humana/
CATEGORIES:Congressos, Simpósios e Fóruns
ATTACH;FMTTYPE=image/webp:https://sogiba.com.br/wp-content/uploads/2024/12/noticia_xxi-simposio-nacional-de-reproducao-humana_03523374.webp
END:VEVENT
BEGIN:VEVENT
DTSTART;TZID=America/Sao_Paulo:20221126T080000
DTEND;TZID=America/Sao_Paulo:20221126T110000
DTSTAMP:20260423T141331
CREATED:20221030T035807Z
LAST-MODIFIED:20250110T061235Z
UID:3956-1669449600-1669460400@sogiba.com.br
SUMMARY:I Mini Jornada Científica da Sogiba
DESCRIPTION:INSCRIÇÕES ABERTAS \nAs inscrições estão abertas para a I Mini Jornada Científica da SOGIBA\, que terá como tema geral: “Mioma em foco”. O evento acontecerá dia 26 de novembro\, das 8h às 11h\, no Bistrot Trapiche Adega\, na Av. Lafayete Coutinho\, no Comércio\, em Salvador. \nFaça já sua inscrição através do link: https://forms.gle/LvbAqBnJCfLFrj1U9\nVocê não pode perder!
URL:https://sogiba.com.br/agenda/i-mini-jornada-cientifica-da-sogiba/
CATEGORIES:Congressos, Simpósios e Fóruns
ATTACH;FMTTYPE=image/webp:https://sogiba.com.br/wp-content/uploads/2024/12/noticia_i-mini-jornada-cientifica-da-sogiba_0257948d.webp
END:VEVENT
BEGIN:VEVENT
DTSTART;VALUE=DATE:20220930
DTEND;VALUE=DATE:20221001
DTSTAMP:20260423T141331
CREATED:20220815T035217Z
LAST-MODIFIED:20250110T061239Z
UID:3953-1664496000-1664582399@sogiba.com.br
SUMMARY:XXVI Congresso Brasileiro de reprodução assistida - 2022
DESCRIPTION:de 31 de agosto a 03 de setembro
URL:https://sogiba.com.br/agenda/xxvi-congresso-brasileiro-de-reproducao-assistida-2022/
CATEGORIES:Congressos, Simpósios e Fóruns
ATTACH;FMTTYPE=image/webp:https://sogiba.com.br/wp-content/uploads/2024/12/noticia_xxvi-congresso-brasileiro-de-reproducao-assistida-2022_01614987.webp
END:VEVENT
BEGIN:VEVENT
DTSTART;VALUE=DATE:20220829
DTEND;VALUE=DATE:20220830
DTSTAMP:20260423T141331
CREATED:20220815T042650Z
LAST-MODIFIED:20250110T061243Z
UID:3977-1661731200-1661817599@sogiba.com.br
SUMMARY:Sessão Científica Dr. Caio Nogueira Lessa
DESCRIPTION:Sogiba vai realizar Sessão Científica Dr. Caio Nogueira Lessa \nDia 29/08 às 20h lin da aula: https://www.youtube.com/watch?v=k1iUR2gb4T4
URL:https://sogiba.com.br/agenda/sessao-cientifica-dr-caio-nogueira-lessa/
CATEGORIES:Sessões Científicas Sogiba Online
END:VEVENT
BEGIN:VEVENT
DTSTART;TZID=America/Sao_Paulo:20211208T080000
DTEND;TZID=America/Sao_Paulo:20211210T170000
DTSTAMP:20260423T141331
CREATED:20211217T033905Z
LAST-MODIFIED:20250110T061247Z
UID:3940-1638950400-1639155600@sogiba.com.br
SUMMARY:59º Congresso Brasileiro de Ginecologia e Obstetrícia
DESCRIPTION:Inscrições abertas! \nAcesse o link: https://www.cbgo2021.com.br/cbgo2021
URL:https://sogiba.com.br/agenda/59o-congresso-brasileiro-de-ginecologia-e-obstetricia/
CATEGORIES:Congressos, Simpósios e Fóruns
END:VEVENT
BEGIN:VEVENT
DTSTART;TZID=America/Sao_Paulo:20210917T080000
DTEND;TZID=America/Sao_Paulo:20210918T170000
DTSTAMP:20260423T141331
CREATED:20211017T034940Z
LAST-MODIFIED:20250110T061250Z
UID:3951-1631865600-1631984400@sogiba.com.br
SUMMARY:XIX Simpósio de Reprodução Humana
DESCRIPTION:O evento acontece nos dias 17 e 18 de setembro \nInscrições: https://eventos.congresse.me/xixsrh/edicoes/xix-simposio-nacional-de-reproducao-humana-1-edicao \n 
URL:https://sogiba.com.br/agenda/xix-simposio-de-reproducao-humana/
CATEGORIES:Congressos, Simpósios e Fóruns
END:VEVENT
BEGIN:VEVENT
DTSTART;VALUE=DATE:20210830
DTEND;VALUE=DATE:20210831
DTSTAMP:20260423T141331
CREATED:20210815T042539Z
LAST-MODIFIED:20250110T061254Z
UID:3975-1630281600-1630367999@sogiba.com.br
SUMMARY:Sessão Científica Dra. Cremilda Costa de Figueiredo
DESCRIPTION:Sessão Científica Dra. Cremilda Costa de Figueiredo \nAcompanhe através do link.:\nhttps://www.youtube.com/watch?v=bbjNnox9nPs
URL:https://sogiba.com.br/agenda/sessao-cientifica-dra-cremilda-costa-de-figueiredo/
CATEGORIES:Sessões Científicas Sogiba Online
END:VEVENT
BEGIN:VEVENT
DTSTART;VALUE=DATE:20210727
DTEND;VALUE=DATE:20210730
DTSTAMP:20260423T141331
CREATED:20210627T033642Z
LAST-MODIFIED:20250110T061257Z
UID:3938-1627344000-1627603199@sogiba.com.br
SUMMARY:SagoSogiba
DESCRIPTION:Inscrições abertas! 27 a 29 de julho\nAcesse o link: https://eventos.congresse.me/sagosogiba
URL:https://sogiba.com.br/agenda/sagosogiba/
CATEGORIES:Congressos, Simpósios e Fóruns
END:VEVENT
BEGIN:VEVENT
DTSTART;VALUE=DATE:20210628
DTEND;VALUE=DATE:20210629
DTSTAMP:20260423T141331
CREATED:20241220T042522Z
LAST-MODIFIED:20250110T061301Z
UID:3973-1624838400-1624924799@sogiba.com.br
SUMMARY:Sessão Científica Dr. Gabriel Bittencourt Correia
DESCRIPTION:Acompanhe através do youtube. \nhttps://www.youtube.com/watch?v=s3vd_O47izk
URL:https://sogiba.com.br/agenda/sessao-cientifica-dr-gabriel-bittencourt-correia/
CATEGORIES:Sessões Científicas Sogiba Online
END:VEVENT
BEGIN:VEVENT
DTSTART;VALUE=DATE:20210617
DTEND;VALUE=DATE:20210620
DTSTAMP:20260423T141331
CREATED:20210517T033555Z
LAST-MODIFIED:20250110T061304Z
UID:3935-1623888000-1624147199@sogiba.com.br
SUMMARY:XXXIV Jornada de Ginecologia e Obstetrícia da Santa Casa de Misericórdia de São Paulo
DESCRIPTION:Participe! De 17 a 19 de junho \nLink de acesso ao site do evento: https://www.cean-santacasa.org.br/xxxiv-jornada-de-obstetricia-e-ginecologia-da-santa-casa-de-misericordia-de-sao-paulo/ \nE-mail para contato: inscricoes@rgcomunic.com.br
URL:https://sogiba.com.br/agenda/xxxiv-jornada-de-ginecologia-e-obstetricia-da-santa-casa-de-misericordia-de-sao-paulo/
CATEGORIES:Congressos, Simpósios e Fóruns
END:VEVENT
BEGIN:VEVENT
DTSTART;VALUE=DATE:20210601
DTEND;VALUE=DATE:20210602
DTSTAMP:20260423T141331
CREATED:20210522T033339Z
LAST-MODIFIED:20250110T061307Z
UID:3933-1622505600-1622591999@sogiba.com.br
SUMMARY:I Congresso Brasileiro sobre Hipertensão na Gravidez
DESCRIPTION:Inscrições gratuitas\nInscrição: https://docs.google.com/forms/d/e/1FAIpQLScUUAtmrAGStNBb6Cv497r4sTc_l4H3SLS9A0zSqaJCzfc1QQ/viewform?usp=sf_link
URL:https://sogiba.com.br/agenda/i-congresso-brasileiro-sobre-hipertensao-na-gravidez/
CATEGORIES:Congressos, Simpósios e Fóruns
END:VEVENT
END:VCALENDAR