BEGIN:VCALENDAR
VERSION:2.0
PRODID:-//SOGIBA - ECPv6.15.20//NONSGML v1.0//EN
CALSCALE:GREGORIAN
METHOD:PUBLISH
X-WR-CALNAME:SOGIBA
X-ORIGINAL-URL:https://sogiba.com.br
X-WR-CALDESC:Eventos para SOGIBA
REFRESH-INTERVAL;VALUE=DURATION:PT1H
X-Robots-Tag:noindex
X-PUBLISHED-TTL:PT1H
BEGIN:VTIMEZONE
TZID:America/Sao_Paulo
BEGIN:STANDARD
TZOFFSETFROM:-0300
TZOFFSETTO:-0300
TZNAME:-03
DTSTART:20250101T000000
END:STANDARD
END:VTIMEZONE
BEGIN:VEVENT
DTSTART;TZID=America/Sao_Paulo:20260101T080000
DTEND;TZID=America/Sao_Paulo:20261231T170000
DTSTAMP:20260423T093518
CREATED:20260406T145521Z
LAST-MODIFIED:20260406T145727Z
UID:4706-1767254400-1798736400@sogiba.com.br
SUMMARY:Programação das Atividades Científicas
DESCRIPTION:A SOGIBA preparou um calendário robusto de atividades científicas para esse ano\, focado na atualização de ginecologistas e obstetras. Confira os destaques: \n\n\n💻 Sessões Científicas Online: Encontros mensais (sempre na terceira 2ª feira do mês) abordando temas como Endometriose\, Diabetes Gestacional\, ISTs e Violência contra a Mulher. \n\n\n⚖️ Defesa da Mulher: No dia 21 de outubro\, realizaremos o II Fórum de Assistência às Mulheres e Crianças Vítimas de Violência Sexual na Bahia. \n\n\n🎓 XXIV Congresso Baiano de GO: O grande encontro acontece nos dias 22 e 23 de outubro\, com foco em temas como Inteligência Artificial na assistência\, Mulher 40+ e Transgênero. \n\n\n🔗 As sessões online ficam gravadas no site para acesso exclusivo dos associados! \nClique aqui e saiba mais!
URL:https://sogiba.com.br/agenda/programacao-das-atividades-cientificas/
CATEGORIES:Eventos,Sessões Científicas Sogiba Online
ATTACH;FMTTYPE=image/png:https://sogiba.com.br/wp-content/uploads/2026/03/ffdsdsfs.png
END:VEVENT
BEGIN:VEVENT
DTSTART;TZID=America/Sao_Paulo:20260420T080000
DTEND;TZID=America/Sao_Paulo:20260426T170000
DTSTAMP:20260423T093518
CREATED:20260417T201155Z
LAST-MODIFIED:20260417T201155Z
UID:4718-1776672000-1777222800@sogiba.com.br
SUMMARY:Teste de Evento da Vector
DESCRIPTION:Isso é um evento teste da Vector
URL:https://sogiba.com.br/agenda/teste-de-evento-da-vector/
CATEGORIES:Eventos
END:VEVENT
BEGIN:VEVENT
DTSTART;TZID=America/Sao_Paulo:20260501T080000
DTEND;TZID=America/Sao_Paulo:20260509T170000
DTSTAMP:20260423T093518
CREATED:20260417T201313Z
LAST-MODIFIED:20260417T201313Z
UID:4720-1777622400-1778346000@sogiba.com.br
SUMMARY:Teste de Evento da Vector - Maio
DESCRIPTION:Teste de Evento da Vector – Maio
URL:https://sogiba.com.br/agenda/teste-de-evento-da-vector-maio/
CATEGORIES:Eventos
END:VEVENT
BEGIN:VEVENT
DTSTART;VALUE=DATE:20261022
DTEND;VALUE=DATE:20261024
DTSTAMP:20260423T093518
CREATED:02060406T150005Z
LAST-MODIFIED:20260406T145346Z
UID:4248-1792627200-1792799999@sogiba.com.br
SUMMARY:Congresso Baiano de Ginecologia e Obstetrícia - Hotel De Ville – Salvador Bahia
DESCRIPTION:Clique aqui e saiba mais! 
URL:https://sogiba.com.br/agenda/congresso-baiano-de-ginecologia-e-obstetricia-hotel-de-ville-salvador-bahia/
CATEGORIES:Congressos, Simpósios e Fóruns,Eventos
ATTACH;FMTTYPE=image/png:https://sogiba.com.br/wp-content/uploads/2025/01/Post-de-Instagram-Contabilidade-Imposto-de-Renda-Moderno-Laranja-e-Marrom.png
END:VEVENT
END:VCALENDAR